BEGIN:VCALENDAR
VERSION:2.0
PRODID:-//The HiFi Club - ECPv5.16.0//NONSGML v1.0//EN
CALSCALE:GREGORIAN
METHOD:PUBLISH
X-ORIGINAL-URL:https://thehificlub.co.uk
X-WR-CALDESC:Events for The HiFi Club
REFRESH-INTERVAL;VALUE=DURATION:PT1H
X-Robots-Tag:noindex
X-PUBLISHED-TTL:PT1H
BEGIN:VTIMEZONE
TZID:UTC
BEGIN:STANDARD
TZOFFSETFROM:+0000
TZOFFSETTO:+0000
TZNAME:UTC
DTSTART:20260101T000000
END:STANDARD
END:VTIMEZONE
BEGIN:VEVENT
DTSTART;TZID=UTC:20260612T183000
DTEND;TZID=UTC:20260612T220000
DTSTAMP:20260419T143331
CREATED:20230831T163414Z
LAST-MODIFIED:20260413T102136Z
UID:49381-1781289000-1781301600@thehificlub.co.uk
SUMMARY:Comedy Unleashed with Alistair Williams & Guests
DESCRIPTION:Alongside Alistair Williams will be Francis Foster\, Kelli! Taylor & Darius Davies/strong> \nHaving consistently sold out shows in London for the past 5 years\, Comedy Unleashed brings more of its refreshing brand of stand-up comedy to The HiFi Club in Leeds. \nComedy Unleashed nights showcase comedians who have a spirit of exploration\, are counter-cultural and eschew the bland and predictable. And\, if a comedian gets cancelled\, we like to put them on. The audience should be the only judge and if something is funny. \nAlistair Williams\nAlistair won Comedian of the Year 2023 – as voted by a live audience\, not comedy industry wonks. Despite this\, Alistair is excluded from many comedy clubs and banned from YouTube\, Alistair Williams is utterly counter-cultural and bloody hilarious. \nFrancis Foster\nFrancis is the co-host of popular YouTube and podcast TRIGGERNomentry. He’s a top stand-up comic too. \nKelli! Taylor\nKelly is a celebrity hairdresser from Hull. She lives\, laughs\, and loves. \nDarius Davies\nDarius cut his teeth in the comedy clubs of New York city. Due to “visa irregularities” Darius soon found himself back\, and uncelebrated in London. He’s a distinct voice in a sea of ubiquity and fearless in his belief in what is funny and forging his own path. High energy\, captivating and fuelled with passion\, soul and wit. \nDoors: 6:30pm until 10:00pm with the first comedian onstage at 7:30pm. Please arrive at the venue by 7:00pm so you can get a drink and get sat down before the first act. If you turn up after 7:00pm you may have to wait until the next available interval to be allowed in. \nTickets are sold for the Comedy Night as an event and not for individual comedians. Line-ups are subject to change. All acts are confirmed at time of booking. Occasionally\, acts may be replaced for reasons beyond our control. If this happens the act will be replaced with a suitable alternative. We do our best to keep the listings (on our calendar page) as up to date as feasibly possible with the current situation. If this causes any major inconvenience\, please contact info@thehificlub.co.uk. \nFancy dress is not permitted. At the discretion of management and security of The HiFi Club\, same sex groups of 5 or more may be asked for a behavioural bond of £10 per person upon entry to ensure the smooth running of the comedy show. This behavioural bond will be returned at the end of the show as long as the rules of the venue have been adhered to. \nFor group enquiries and bookings\, please contact us directly via info@thehificlub.co.uk. \nBooking details will be shared with Comedy Unleashed and your email address will be added to the Comedy Unleashed newsletter. If you wish to unsubscribe\, there’s a link to do so in your first email.
URL:https://thehificlub.co.uk/event/comedy-unleashed-11-june/
CATEGORIES:Comedy Club
ATTACH;FMTTYPE=image/png:https://thehificlub.co.uk/wp-content/uploads/2023/08/june-com.png
END:VEVENT
END:VCALENDAR