BEGIN:VCALENDAR
VERSION:2.0
PRODID:-//The HiFi Club - ECPv5.16.0//NONSGML v1.0//EN
CALSCALE:GREGORIAN
METHOD:PUBLISH
X-WR-CALNAME:The HiFi Club
X-ORIGINAL-URL:https://thehificlub.co.uk
X-WR-CALDESC:Events for The HiFi Club
REFRESH-INTERVAL;VALUE=DURATION:PT1H
X-Robots-Tag:noindex
X-PUBLISHED-TTL:PT1H
BEGIN:VTIMEZONE
TZID:UTC
BEGIN:STANDARD
TZOFFSETFROM:+0000
TZOFFSETTO:+0000
TZNAME:UTC
DTSTART:20260101T000000
END:STANDARD
END:VTIMEZONE
BEGIN:VEVENT
DTSTART;TZID=UTC:20260227T183000
DTEND;TZID=UTC:20260227T220000
DTSTAMP:20260419T132739
CREATED:20231001T230014Z
LAST-MODIFIED:20260131T150251Z
UID:49185-1772217000-1772229600@thehificlub.co.uk
SUMMARY:Dominic Frisby - An Evening Of Comedy\, Songs & Satire
DESCRIPTION:An experienced stand up and prolific writer of comic songs\, Dominic’s show is a collection of anecdotes\, jokes and music accompanied by one of Europe’s top jazz pianists\, Chad Lelong\, on keyboards. Doors at 6:30pm and show start time 7:30pm  \nDominic’s songs have many millions of views online. “We’re All Far Right Now” alone has over 50 million\, with Elon Musk one of the many to share it. His song about Keir Starmer\, “Captain Flip Flop”\, also had millions of views\, though on TikTok it only got 27 and was flagged for “electoral interference”. His song about Brexit\, 17 Million Eff Offs\, reached the Top 40 and made Number One on the Amazon Charts. Other favourites\, both live and online\, include “I Love Wetherspoons”\, “I’m Going to Marry Gary” and the ever changing “Maybe” song. \nA prominent libertarian\, he provides a refreshing and funny take on the current issues faced by modern day Britain. As he says himself\, “If you believe in things like free  speech and free trade\, you’ll like this show”. \n“Outstanding” The Times \n“Beautifully crafted\, cleverly pitched comedy” The Scotsman \n“Mercurially witty” The Spectator “Excellent” The Daily Telegraph \nEven The Guardian admits he can be “entertaining”
URL:https://thehificlub.co.uk/event/dominicfrisby/
LOCATION:The HiFi Club\, 2 Central Road\, Leeds\, LS16DE\, United Kingdom
CATEGORIES:Comedy Club
ATTACH;FMTTYPE=image/png:https://thehificlub.co.uk/wp-content/uploads/2023/10/dominicfrisby.png
END:VEVENT
END:VCALENDAR