BEGIN:VCALENDAR
VERSION:2.0
PRODID:-//The HiFi Club - ECPv5.16.0//NONSGML v1.0//EN
CALSCALE:GREGORIAN
METHOD:PUBLISH
X-ORIGINAL-URL:https://thehificlub.co.uk
X-WR-CALDESC:Events for The HiFi Club
REFRESH-INTERVAL;VALUE=DURATION:PT1H
X-Robots-Tag:noindex
X-PUBLISHED-TTL:PT1H
BEGIN:VTIMEZONE
TZID:UTC
BEGIN:STANDARD
TZOFFSETFROM:+0000
TZOFFSETTO:+0000
TZNAME:UTC
DTSTART:20260101T000000
END:STANDARD
END:VTIMEZONE
BEGIN:VEVENT
DTSTART;TZID=UTC:20260502T173000
DTEND;TZID=UTC:20260502T210000
DTSTAMP:20260419T115101
CREATED:20230831T160021Z
LAST-MODIFIED:20260413T100154Z
UID:49318-1777743000-1777755600@thehificlub.co.uk
SUMMARY:Comedy Club with Daliso Chaponda & Guests (* 1st act onstage 6.45pm)
DESCRIPTION:Support comes from Roger Monkhouse\, Dave Twentyman & Al Stevenson\n\n  \nEstablished in 2001 and featuring four stand up comedians\, the HiFi’s Comedy Club is Leeds’ finest independent Stand-Up Comedy event and has been the launch pad for so many Stand-Up comedians over the years with the likes of Alan Carr\, Paul Sinha\, John Bishop\, Katherine Ryan\, Reginald D Hunter\, Tom Stade\, Jason Manford\, Jon Richardson\, Sarah Millican\, Daliso Chaponda\, Russell Howard & Chris Ramsey all calling the venue home during the early days of their careers. \nDoors: 5.30pm until 9pm-ish with the first comedian onstage approximately 6.45pm. We request all ticket holders arrive at the venue no later than 6.15pm to facilitate us getting you seated and served in good time before the first act takes to the stage. Any arrivals after 6.45pm may unfortunately have to wait until the next available interval to be allowed into the venue. \n  \n\n  \nTickets are sold for the Comedy Night as an event and not for individual comedians. Line-ups are subject to change. All acts are confirmed at time of booking. Occasionally\, acts may be replaced for reasons beyond our control. If this happens the act will be replaced with a suitable alternative. We do our best to keep the listings (on our calendar page) as up to date as feasibly possible with the current situation. If this causes any major inconvenience\, please contact info@thehificlub.co.uk. \nFancy dress is not permitted. At the discretion of management and security of The HiFi Club\, same sex groups of 5 or more may be asked for a behavioural bond of £10 per person upon entry to ensure the smooth running of the comedy show. This behavioural bond will be returned at the end of the show as long as the rules of the venue have been adhered to. \nFor group enquiries and bookings\, please contact us directly via info@thehificlub.co.uk \n 
URL:https://thehificlub.co.uk/event/daliso-chaponda/
CATEGORIES:Comedy Club
ATTACH;FMTTYPE=image/png:https://thehificlub.co.uk/wp-content/uploads/2016/03/Daliso-web.png
END:VEVENT
BEGIN:VEVENT
DTSTART;TZID=UTC:20260509T173000
DTEND;TZID=UTC:20260509T210000
DTSTAMP:20260419T115101
CREATED:20230831T160021Z
LAST-MODIFIED:20260413T100131Z
UID:49321-1778347800-1778360400@thehificlub.co.uk
SUMMARY:Comedy Club with Mick Ferry & Guests (* 1st act onstage 6.45pm)
DESCRIPTION:Support comes from Charlie Lewis\, Katie Tracey & Kieran Lawless\n\n  \nEstablished in 2001 and featuring four stand up comedians\, the HiFi’s Comedy Club is Leeds’ finest independent Stand-Up Comedy event and has been the launch pad for so many Stand-Up comedians over the years with the likes of Alan Carr\, Paul Sinha\, John Bishop\, Katherine Ryan\, Reginald D Hunter\, Tom Stade\, Jason Manford\, Jon Richardson\, Sarah Millican\, Daliso Chaponda\, Russell Howard & Chris Ramsey all calling the venue home during the early days of their careers. \nDoors: 5.30pm until 9pm-ish with the first comedian onstage approximately 6.45pm. We request all ticket holders arrive at the venue no later than 6.15pm to facilitate us getting you seated and served in good time before the first act takes to the stage. Any arrivals after 6.45pm may unfortunately have to wait until the next available interval to be allowed into the venue. \n  \n\n  \nTickets are sold for the Comedy Night as an event and not for individual comedians. Line-ups are subject to change. All acts are confirmed at time of booking. Occasionally\, acts may be replaced for reasons beyond our control. If this happens the act will be replaced with a suitable alternative. We do our best to keep the listings (on our calendar page) as up to date as feasibly possible with the current situation. If this causes any major inconvenience\, please contact info@thehificlub.co.uk. \nFancy dress is not permitted. At the discretion of management and security of The HiFi Club\, same sex groups of 5 or more may be asked for a behavioural bond of £10 per person upon entry to ensure the smooth running of the comedy show. This behavioural bond will be returned at the end of the show as long as the rules of the venue have been adhered to. \nFor group enquiries and bookings\, please contact us directly via info@thehificlub.co.uk \n 
URL:https://thehificlub.co.uk/event/mick-ferry/
CATEGORIES:Comedy Club
ATTACH;FMTTYPE=image/png:https://thehificlub.co.uk/wp-content/uploads/2016/03/MickFerry-3.png
END:VEVENT
BEGIN:VEVENT
DTSTART;TZID=UTC:20260515T183000
DTEND;TZID=UTC:20260515T183000
DTSTAMP:20260419T115101
CREATED:20231001T230014Z
LAST-MODIFIED:20260310T090132Z
UID:49279-1778869800-1778869800@thehificlub.co.uk
SUMMARY:Alistair Williams & Tania Edwards on Tour
DESCRIPTION:After a series of acclaimed sold-out London shows\, British\nComedian of the Year Alistair Williams and award-winning stand-\nup Tania Edwards are ON TOUR. This is fast\, smart\, gag packed\,\nunapologetic comedy from two razor sharp comics at the top of\ntheir game. \n“Alistair’s urgent energy and compelling confidence make him\nstand out… a punchy set tore the roof of the gig so conclusively he\nseemed impossible to beat from the moment he stepped on stage.”\nChortle \n“outrageous humour… Tania Edwards has mastered her craft” ⭐️ ⭐️ ⭐️ ⭐️ ⭐️ Ed Fest Mag \n“brilliantly dark jokes” ⭐️ ⭐️ ⭐️ ⭐️ ⭐️ Voice \n“sharp and savage wit” ⭐️ ⭐️ ⭐️ ⭐️ The Sunday Post  \n⭐️ ⭐️ ⭐️ ⭐️ ⭐️ BBC Arts Desk
URL:https://thehificlub.co.uk/event/alistair-williams-tania-edwards-on-tour/
LOCATION:The HiFi Club\, 2 Central Road\, Leeds\, LS16DE\, United Kingdom
CATEGORIES:Comedy Club
ATTACH;FMTTYPE=image/png:https://thehificlub.co.uk/wp-content/uploads/2023/10/tainia.png
END:VEVENT
BEGIN:VEVENT
DTSTART;TZID=UTC:20260516T173000
DTEND;TZID=UTC:20260516T210000
DTSTAMP:20260419T115101
CREATED:20230831T160021Z
LAST-MODIFIED:20260413T100335Z
UID:49324-1778952600-1778965200@thehificlub.co.uk
SUMMARY:Comedy Club with Bennett Arron & Guests (* 1st act onstage 6.45pm)
DESCRIPTION:Support comes from Tony Basnett\, Peter Brush & Matt Reed\n\n  \nEstablished in 2001 and featuring four stand up comedians\, the HiFi’s Comedy Club is Leeds’ finest independent Stand-Up Comedy event and has been the launch pad for so many Stand-Up comedians over the years with the likes of Alan Carr\, Paul Sinha\, John Bishop\, Katherine Ryan\, Reginald D Hunter\, Tom Stade\, Jason Manford\, Jon Richardson\, Sarah Millican\, Daliso Chaponda\, Russell Howard & Chris Ramsey all calling the venue home during the early days of their careers. \nDoors: 5.30pm until 9pm-ish with the first comedian onstage approximately 6.45pm. We request all ticket holders arrive at the venue no later than 6.15pm to facilitate us getting you seated and served in good time before the first act takes to the stage. Any arrivals after 6.45pm may unfortunately have to wait until the next available interval to be allowed into the venue. \n  \n\n  \nTickets are sold for the Comedy Night as an event and not for individual comedians. Line-ups are subject to change. All acts are confirmed at time of booking. Occasionally\, acts may be replaced for reasons beyond our control. If this happens the act will be replaced with a suitable alternative. We do our best to keep the listings (on our calendar page) as up to date as feasibly possible with the current situation. If this causes any major inconvenience\, please contact info@thehificlub.co.uk. \nFancy dress is not permitted. At the discretion of management and security of The HiFi Club\, same sex groups of 5 or more may be asked for a behavioural bond of £10 per person upon entry to ensure the smooth running of the comedy show. This behavioural bond will be returned at the end of the show as long as the rules of the venue have been adhered to. \nFor group enquiries and bookings\, please contact us directly via info@thehificlub.co.uk \n 
URL:https://thehificlub.co.uk/event/bennett-arron/
CATEGORIES:Comedy Club
ATTACH;FMTTYPE=image/png:https://thehificlub.co.uk/wp-content/uploads/2016/04/BennettArron-web.png
END:VEVENT
BEGIN:VEVENT
DTSTART;TZID=UTC:20260523T190000
DTEND;TZID=UTC:20260523T220000
DTSTAMP:20260419T115101
CREATED:20230831T160021Z
LAST-MODIFIED:20260413T101232Z
UID:49377-1779562800-1779573600@thehificlub.co.uk
SUMMARY:Comedy Club with Patrick Monahan & Guests (* 1st act onstage 8pm)
DESCRIPTION:Support comes from Chris Brooker\, Pete Otway & Alex Boardman\n\n  \nDue to an earlier event\, doors will open for this week’s Comedy Club at the later time of 7pm with the first comedian onstage at 8pm. \nEstablished in 2001 and featuring four stand up comedians\, the HiFi’s Comedy Club is Leeds’ finest independent Stand-Up Comedy event and has been the launch pad for so many Stand-Up comedians over the years with the likes of Alan Carr\, Paul Sinha\, John Bishop\, Katherine Ryan\, Reginald D Hunter\, Tom Stade\, Jason Manford\, Jon Richardson\, Sarah Millican\, Daliso Chaponda\, Russell Howard & Chris Ramsey all calling the venue home during the early days of their careers. \nDoors: 5.30pm until 9pm-ish with the first comedian onstage approximately 6.45pm. We request all ticket holders arrive at the venue no later than 6.15pm to facilitate us getting you seated and served in good time before the first act takes to the stage. Any arrivals after 6.45pm may unfortunately have to wait until the next available interval to be allowed into the venue. \n  \n\n  \nTickets are sold for the Comedy Night as an event and not for individual comedians. Line-ups are subject to change. All acts are confirmed at time of booking. Occasionally\, acts may be replaced for reasons beyond our control. If this happens the act will be replaced with a suitable alternative. We do our best to keep the listings (on our calendar page) as up to date as feasibly possible with the current situation. If this causes any major inconvenience\, please contact info@thehificlub.co.uk. \nFancy dress is not permitted. At the discretion of management and security of The HiFi Club\, same sex groups of 5 or more may be asked for a behavioural bond of £10 per person upon entry to ensure the smooth running of the comedy show. This behavioural bond will be returned at the end of the show as long as the rules of the venue have been adhered to. \nFor group enquiries and bookings\, please contact us directly via info@thehificlub.co.uk \n 
URL:https://thehificlub.co.uk/event/patrick-monahan/
CATEGORIES:Comedy Club
ATTACH;FMTTYPE=image/png:https://thehificlub.co.uk/wp-content/uploads/2016/04/patrickmonahan-web.png
END:VEVENT
BEGIN:VEVENT
DTSTART;TZID=UTC:20260530T173000
DTEND;TZID=UTC:20260530T210000
DTSTAMP:20260419T115101
CREATED:20230831T160021Z
LAST-MODIFIED:20260413T101619Z
UID:49379-1780162200-1780174800@thehificlub.co.uk
SUMMARY:Comedy Club with Chris Washington & Guests (* 1st act onstage 6.45pm)
DESCRIPTION:Support comes from Paul Thorne\, Kent Cameron & Barry Dodds\n\n  \nEstablished in 2001 and featuring four stand up comedians\, the HiFi’s Comedy Club is Leeds’ finest independent Stand-Up Comedy event and has been the launch pad for so many Stand-Up comedians over the years with the likes of Alan Carr\, Paul Sinha\, John Bishop\, Katherine Ryan\, Reginald D Hunter\, Tom Stade\, Jason Manford\, Jon Richardson\, Sarah Millican\, Daliso Chaponda\, Russell Howard & Chris Ramsey all calling the venue home during the early days of their careers. \nDoors: 5.30pm until 9pm-ish with the first comedian onstage approximately 6.45pm. We request all ticket holders arrive at the venue no later than 6.15pm to facilitate us getting you seated and served in good time before the first act takes to the stage. Any arrivals after 6.45pm may unfortunately have to wait until the next available interval to be allowed into the venue. \n  \n\n  \nTickets are sold for the Comedy Night as an event and not for individual comedians. Line-ups are subject to change. All acts are confirmed at time of booking. Occasionally\, acts may be replaced for reasons beyond our control. If this happens the act will be replaced with a suitable alternative. We do our best to keep the listings (on our calendar page) as up to date as feasibly possible with the current situation. If this causes any major inconvenience\, please contact info@thehificlub.co.uk. \nFancy dress is not permitted. At the discretion of management and security of The HiFi Club\, same sex groups of 5 or more may be asked for a behavioural bond of £10 per person upon entry to ensure the smooth running of the comedy show. This behavioural bond will be returned at the end of the show as long as the rules of the venue have been adhered to. \nFor group enquiries and bookings\, please contact us directly via info@thehificlub.co.uk \n 
URL:https://thehificlub.co.uk/event/chris-washington/
CATEGORIES:Comedy Club
ATTACH;FMTTYPE=image/png:https://thehificlub.co.uk/wp-content/uploads/2016/03/chriswashington-1.png
END:VEVENT
END:VCALENDAR