BEGIN:VCALENDAR
VERSION:2.0
PRODID:-//The HiFi Club - ECPv5.16.0//NONSGML v1.0//EN
CALSCALE:GREGORIAN
METHOD:PUBLISH
X-WR-CALNAME:The HiFi Club
X-ORIGINAL-URL:https://thehificlub.co.uk
X-WR-CALDESC:Events for The HiFi Club
REFRESH-INTERVAL;VALUE=DURATION:PT1H
X-Robots-Tag:noindex
X-PUBLISHED-TTL:PT1H
BEGIN:VTIMEZONE
TZID:UTC
BEGIN:STANDARD
TZOFFSETFROM:+0000
TZOFFSETTO:+0000
TZNAME:UTC
DTSTART:20260101T000000
END:STANDARD
END:VTIMEZONE
BEGIN:VEVENT
DTSTART;TZID=UTC:20260313T220000
DTEND;TZID=UTC:20260313T230000
DTSTAMP:20260422T081532
CREATED:20231001T230014Z
LAST-MODIFIED:20260305T090254Z
UID:49261-1773439200-1773442800@thehificlub.co.uk
SUMMARY:20/20 Vision - Full Circle
DESCRIPTION:PHONE TRAXXX bring their electric live show to Leeds fusing House\, UKG\, Electro and Breaks into a full on stage show. It’s bold\, it’s fresh and it always demolishes the dance floor. \nMADVILLA is another name from the scene bringing the mind melting madness that crosses between styles & sounds and this time he’s presenting his brand new LIVE show for the first ever – anywhere. So we’re honoured to have it happen in Leeds. \nIf you know Phone Traxxx then you most certainly also know Harry Wills – Sweatbox\, the belter of a tune that stirred it all up. Just remember though – we don’t care who you are\, you talk on the floor\, get headlocked ! Harry will be jammin’ B2B with partner in crime Rob Amboule who is no stranger to the decks with a run of his own dope trax dating right back full circle style to his first ever record KERRI that was released on 20/20 Vision.  Speaking of which our line comes complete with the founder Ralph Lawson swinging between set breaks with some sweet deep 20/20 Vision sounds… \nLets go – Let’s Go!
URL:https://thehificlub.co.uk/event/2020-vison/
LOCATION:The HiFi Club\, 2 Central Road\, Leeds\, LS16DE\, United Kingdom
CATEGORIES:Club Night
ATTACH;FMTTYPE=image/png:https://thehificlub.co.uk/wp-content/uploads/2023/10/20-20.png
END:VEVENT
END:VCALENDAR